BEGIN:VCALENDAR
VERSION:2.0
PRODID:-//Stadtteilkonferenz Steilshoop - ECPv6.15.20//NONSGML v1.0//EN
CALSCALE:GREGORIAN
METHOD:PUBLISH
X-ORIGINAL-URL:https://www.steilshoop.net
X-WR-CALDESC:Veranstaltungen für Stadtteilkonferenz Steilshoop
REFRESH-INTERVAL;VALUE=DURATION:PT1H
X-Robots-Tag:noindex
X-PUBLISHED-TTL:PT1H
BEGIN:VTIMEZONE
TZID:Europe/Berlin
BEGIN:DAYLIGHT
TZOFFSETFROM:+0100
TZOFFSETTO:+0200
TZNAME:CEST
DTSTART:20240331T010000
END:DAYLIGHT
BEGIN:STANDARD
TZOFFSETFROM:+0200
TZOFFSETTO:+0100
TZNAME:CET
DTSTART:20241027T010000
END:STANDARD
BEGIN:DAYLIGHT
TZOFFSETFROM:+0100
TZOFFSETTO:+0200
TZNAME:CEST
DTSTART:20250330T010000
END:DAYLIGHT
BEGIN:STANDARD
TZOFFSETFROM:+0200
TZOFFSETTO:+0100
TZNAME:CET
DTSTART:20251026T010000
END:STANDARD
BEGIN:DAYLIGHT
TZOFFSETFROM:+0100
TZOFFSETTO:+0200
TZNAME:CEST
DTSTART:20260329T010000
END:DAYLIGHT
BEGIN:STANDARD
TZOFFSETFROM:+0200
TZOFFSETTO:+0100
TZNAME:CET
DTSTART:20261025T010000
END:STANDARD
END:VTIMEZONE
BEGIN:VEVENT
DTSTART;TZID=Europe/Berlin:20250603T100000
DTEND;TZID=Europe/Berlin:20250603T100000
DTSTAMP:20260421T220916
CREATED:20250603T124614Z
LAST-MODIFIED:20250603T124614Z
UID:480-1748944800-1748944800@www.steilshoop.net
SUMMARY:Straßenverkehrsregeln für Fahrradfahrer*innen – Dienstag\, 03. Juni um 10 Uhr - Kostenlos
DESCRIPTION:Egal\, ob du viel Fahrrad fährst oder jetzt damit anfangen willst: Im Straßenverkehr gibt es viele Regeln und Ausnahmen\, die man beachten muss. Nur wer die Verkehrsregeln kennt\, kann sich im Straßenchaos einer Großstadt sicher auf dem Fahrrad bewegen.\nBei diesem Workshop werden alle Fragen geklärt\, und jede:r\, auch erfahrene Fahrradfahrer:innen\, können hier etwas lernen und ihr Wissen noch mal auffrischen. Anmeldung erwünscht.
URL:https://www.steilshoop.net/event/strassenverkehrsregeln-fuer-fahrradfahrerinnen-dienstag-03-juni-um-10-uhr-kostenlos/
LOCATION:Stadtteiltreff AGDAZ\, Gropiusring 43a\, Hamburg\, 22309\, Germany
ORGANIZER;CN="A.G.D.A.Z. e.V.":MAILTO:info@agdaz.de
END:VEVENT
BEGIN:VEVENT
DTSTART;TZID=Europe/Berlin:20250603T140000
DTEND;TZID=Europe/Berlin:20250603T170000
DTSTAMP:20260421T220916
CREATED:20250507T225902Z
LAST-MODIFIED:20250507T225902Z
UID:447-1748959200-1748970000@www.steilshoop.net
SUMMARY:Eröffnung neuer Moschee "Masjid Al-Tawheed" am 03.06.2025
DESCRIPTION:Sehr geehrte Damen und Herren\,\nliebe Partner\, Freunde und Nachbarn der Masjid Al-Tawheed\, \nim Namen des Vereins der afghanischen Muslime-Deutschland e.V. und der gesamten Gemeinschaft der Masjid Al-Tawheed möchten wir Sie von Herzen zu einem besonderen Anlass einladen: der feierlichen Eröffnung unserer neuen Moschee unter dem Motto „Türen öffnen – Brücken bauen“. \nDieser Tag markiert einen wichtigen Meilenstein für uns\, und es wäre uns eine große Freude und Ehre\, diesen gemeinsam mit Ihnen zu begehen. Diese E-Mail dient als herzliche Vorankündigung für dieses bedeutsame Ereignis. \nDatum & Zeit: Dienstag\, 03. Juni 2025\, von 14:00 bis 17:00 Uhr\nOrt: Masjid Al-Tawheed\, Ruwoldtweg 2\, 22309 Hamburg \nEs ist unser tiefes Anliegen\, diesen besonderen Tag mit Ihnen zu teilen und die Gelegenheit für Begegnung\, fruchtbaren Dialog und ein besseres gegenseitiges Kennenlernen zu nutzen. Wie Sie dem beigefügten Flyer entnehmen können\, erwartet Sie ein abwechslungsreiches Programm mit feierlichen Ansprachen\, einer Präsentation unserer Geschichte und Vision\, Führungen durch die neu gestalteten Räumlichkeiten sowie einem gemeinsamen afghanischen Buffet\, das zum Verweilen und Austausch einlädt. \nDen detaillierten Flyer mit dem vollständigen Programm und allen weiteren Informationen finden Sie bereits im Anhang dieser E-Mail. \nWir hoffen aufrichtig\, Sie an diesem Tag bei uns in der Masjid Al-Tawheed begrüßen zu dürfen\, um gemeinsam symbolische Brücken zu bauen und unsere Türen für einen offenen und wertvollen Austausch weit zu öffnen. \nFür Rückfragen stehen wir Ihnen gerne per E-Mail unter info@masjid-altawheed.com oder telefonisch unter ‪+49 1523 6806952‬ zur Verfügung. \nMit herzlichen Grüßen und in freudiger Erwartung\, \nScher Mohammad Goia\nVorstandsvorsitzender \nHafizullah Farid\nStellvertretender Vorsitzender \nMasjid Al-Tawheed\nVerein der afghanischen Muslime-Deutschland e.V.\nRuwoldtweg 2\n22309 Hamburg-Steilshoop\nDeutschland \nE: info@masjid-altawheed.com \nT: +49 (0) 40 88 230 267 \nF: +49 (0) 40 64 415 676 \nM: +49 (0) 176 214 98 417 \nW: www.masjid-altawheed.com
URL:https://www.steilshoop.net/event/eroeffnung-neuer-moschee-masjid-al-tawheed-am-03-06-2025/
LOCATION:Masjid Al-Tawheed\, Ruwoldtweg 2\, Hamburg\, Hamburg\, 22309\, Germany
END:VEVENT
END:VCALENDAR