BEGIN:VCALENDAR
VERSION:2.0
PRODID:-//Stadtteilkonferenz Steilshoop - ECPv6.15.20//NONSGML v1.0//EN
CALSCALE:GREGORIAN
METHOD:PUBLISH
X-ORIGINAL-URL:https://www.steilshoop.net
X-WR-CALDESC:Veranstaltungen für Stadtteilkonferenz Steilshoop
REFRESH-INTERVAL;VALUE=DURATION:PT1H
X-Robots-Tag:noindex
X-PUBLISHED-TTL:PT1H
BEGIN:VTIMEZONE
TZID:Europe/Berlin
BEGIN:DAYLIGHT
TZOFFSETFROM:+0100
TZOFFSETTO:+0200
TZNAME:CEST
DTSTART:20240331T010000
END:DAYLIGHT
BEGIN:STANDARD
TZOFFSETFROM:+0200
TZOFFSETTO:+0100
TZNAME:CET
DTSTART:20241027T010000
END:STANDARD
BEGIN:DAYLIGHT
TZOFFSETFROM:+0100
TZOFFSETTO:+0200
TZNAME:CEST
DTSTART:20250330T010000
END:DAYLIGHT
BEGIN:STANDARD
TZOFFSETFROM:+0200
TZOFFSETTO:+0100
TZNAME:CET
DTSTART:20251026T010000
END:STANDARD
BEGIN:DAYLIGHT
TZOFFSETFROM:+0100
TZOFFSETTO:+0200
TZNAME:CEST
DTSTART:20260329T010000
END:DAYLIGHT
BEGIN:STANDARD
TZOFFSETFROM:+0200
TZOFFSETTO:+0100
TZNAME:CET
DTSTART:20261025T010000
END:STANDARD
END:VTIMEZONE
BEGIN:VEVENT
DTSTART;TZID=Europe/Berlin:20250606T140000
DTEND;TZID=Europe/Berlin:20250606T180000
DTSTAMP:20260421T220835
CREATED:20250603T124759Z
LAST-MODIFIED:20250603T124759Z
UID:484-1749218400-1749232800@www.steilshoop.net
SUMMARY:Lieder meines Lebens – Freitag\, 06. Juni von 14:00 bis 18:00 - Teilnahme kostenlos\, Spenden sind willkommen
DESCRIPTION:Singen und musikalisches Erzählen in kleiner\, geselliger Runde.\nTauche ein in die Welt der persönlichen Lebenslieder! In diesem Workshop entdecken wir gemeinsam die Lieder\, die unser Leben geprägt haben – denn Musik kann Türen öffnen zu besonderen Orten\, Erlebnissen und Gefühlen. Bring gerne dein eigenes Stück musikalischer Erinnerung mit\, um deine Geschichte zu teilen und dich berühren zu lassen.\nDie Kursleiterin Annie aus Köln liebt es\, Lieder und Texte wie Geschichten zu erzählen und so gemeinsam ins Reden und Begegnen zu kommen. Mit ihrem nostalgischen Erinnerungskoffer voller musikalischer Schätze lädt sie dich ein\, dein Leben mit Sang & Klang zu gestalten.\nWenn du Lust hast\, dich auf eine musikalische Reise voller Erinnerungen\, Inspirationen und Gemeinschaft zu begeben\, melde dich an und komm vorbei.
URL:https://www.steilshoop.net/event/lieder-meines-lebens-freitag-06-juni-von-1400-bis-1800-teilnahme-kostenlos-spenden-sind-willkommen/
LOCATION:Stadtteiltreff AGDAZ\, Gropiusring 43a\, Hamburg\, 22309\, Germany
ORGANIZER;CN="A.G.D.A.Z. e.V.":MAILTO:info@agdaz.de
END:VEVENT
END:VCALENDAR