BEGIN:VCALENDAR
VERSION:2.0
PRODID:-//Stadtteilkonferenz Steilshoop - ECPv6.15.20//NONSGML v1.0//EN
CALSCALE:GREGORIAN
METHOD:PUBLISH
X-WR-CALNAME:Stadtteilkonferenz Steilshoop
X-ORIGINAL-URL:https://www.steilshoop.net
X-WR-CALDESC:Veranstaltungen für Stadtteilkonferenz Steilshoop
REFRESH-INTERVAL;VALUE=DURATION:PT1H
X-Robots-Tag:noindex
X-PUBLISHED-TTL:PT1H
BEGIN:VTIMEZONE
TZID:Europe/Berlin
BEGIN:DAYLIGHT
TZOFFSETFROM:+0100
TZOFFSETTO:+0200
TZNAME:CEST
DTSTART:20240331T010000
END:DAYLIGHT
BEGIN:STANDARD
TZOFFSETFROM:+0200
TZOFFSETTO:+0100
TZNAME:CET
DTSTART:20241027T010000
END:STANDARD
BEGIN:DAYLIGHT
TZOFFSETFROM:+0100
TZOFFSETTO:+0200
TZNAME:CEST
DTSTART:20250330T010000
END:DAYLIGHT
BEGIN:STANDARD
TZOFFSETFROM:+0200
TZOFFSETTO:+0100
TZNAME:CET
DTSTART:20251026T010000
END:STANDARD
BEGIN:DAYLIGHT
TZOFFSETFROM:+0100
TZOFFSETTO:+0200
TZNAME:CEST
DTSTART:20260329T010000
END:DAYLIGHT
BEGIN:STANDARD
TZOFFSETFROM:+0200
TZOFFSETTO:+0100
TZNAME:CET
DTSTART:20261025T010000
END:STANDARD
END:VTIMEZONE
BEGIN:VEVENT
DTSTART;TZID=Europe/Berlin:20250717T190000
DTEND;TZID=Europe/Berlin:20250717T210000
DTSTAMP:20260421T203104
CREATED:20250710T190515Z
LAST-MODIFIED:20250710T190515Z
UID:518-1752778800-1752786000@www.steilshoop.net
SUMMARY:Jam Session im A.G.D.A.Z.
DESCRIPTION:https://www.agdaz.de/jam-session-10/ \nInstrument mitbringen und los geht’s. Einige Instrumente und eine kleine Anlage sind vorhanden für diese semi-akustische Session\, die für alle von Anfänger*innen bis hin zu Profis offen ist. Cover\, eigenes\, Jam-Impros… Es wird viel gesungen!\nBei Fragen oder Wünschen meldet Euch bitte bei Connie unter 0406301028 oder info@agdaz.de \nEintritt frei
URL:https://www.steilshoop.net/event/jam-session-im-a-g-d-a-z/
LOCATION:Stadtteiltreff AGDAZ\, Gropiusring 43a\, Hamburg\, 22309\, Germany
END:VEVENT
END:VCALENDAR