BEGIN:VCALENDAR
VERSION:2.0
PRODID:-//Stadtteilkonferenz Steilshoop - ECPv6.15.20//NONSGML v1.0//EN
CALSCALE:GREGORIAN
METHOD:PUBLISH
X-ORIGINAL-URL:https://www.steilshoop.net
X-WR-CALDESC:Veranstaltungen für Stadtteilkonferenz Steilshoop
REFRESH-INTERVAL;VALUE=DURATION:PT1H
X-Robots-Tag:noindex
X-PUBLISHED-TTL:PT1H
BEGIN:VTIMEZONE
TZID:Europe/Berlin
BEGIN:DAYLIGHT
TZOFFSETFROM:+0100
TZOFFSETTO:+0200
TZNAME:CEST
DTSTART:20240331T010000
END:DAYLIGHT
BEGIN:STANDARD
TZOFFSETFROM:+0200
TZOFFSETTO:+0100
TZNAME:CET
DTSTART:20241027T010000
END:STANDARD
BEGIN:DAYLIGHT
TZOFFSETFROM:+0100
TZOFFSETTO:+0200
TZNAME:CEST
DTSTART:20250330T010000
END:DAYLIGHT
BEGIN:STANDARD
TZOFFSETFROM:+0200
TZOFFSETTO:+0100
TZNAME:CET
DTSTART:20251026T010000
END:STANDARD
BEGIN:DAYLIGHT
TZOFFSETFROM:+0100
TZOFFSETTO:+0200
TZNAME:CEST
DTSTART:20260329T010000
END:DAYLIGHT
BEGIN:STANDARD
TZOFFSETFROM:+0200
TZOFFSETTO:+0100
TZNAME:CET
DTSTART:20261025T010000
END:STANDARD
END:VTIMEZONE
BEGIN:VEVENT
DTSTART;TZID=Europe/Berlin:20250801T190000
DTEND;TZID=Europe/Berlin:20250801T210000
DTSTAMP:20260421T185244
CREATED:20250710T190152Z
LAST-MODIFIED:20250710T190547Z
UID:514-1754074800-1754082000@www.steilshoop.net
SUMMARY:Orientalischer Abend im A.G.D.A.Z.
DESCRIPTION:Ein Abend für Frauen (ab 15) zum Kennenlernen\, Klönen\, Tanzen und Essen.\nEs wird überwiegend Musik aus dem Nahen Osten gespielt.\nDazu werden kleine Snacks\, Kuchen und Getränke angeboten.\n\n\n\n\n\n\n5 € Eintritt \nhttps://www.agdaz.de/jam-session-11/orientalischer-abend/
URL:https://www.steilshoop.net/event/orientalischer-abend-im-a-g-d-a-z/
LOCATION:Stadtteiltreff AGDAZ\, Gropiusring 43a\, Hamburg\, 22309\, Germany
END:VEVENT
END:VCALENDAR