BEGIN:VCALENDAR
VERSION:2.0
PRODID:-//Stadtteilkonferenz Steilshoop - ECPv6.15.20//NONSGML v1.0//EN
CALSCALE:GREGORIAN
METHOD:PUBLISH
X-ORIGINAL-URL:https://www.steilshoop.net
X-WR-CALDESC:Veranstaltungen für Stadtteilkonferenz Steilshoop
REFRESH-INTERVAL;VALUE=DURATION:PT1H
X-Robots-Tag:noindex
X-PUBLISHED-TTL:PT1H
BEGIN:VTIMEZONE
TZID:Europe/Berlin
BEGIN:DAYLIGHT
TZOFFSETFROM:+0100
TZOFFSETTO:+0200
TZNAME:CEST
DTSTART:20240331T010000
END:DAYLIGHT
BEGIN:STANDARD
TZOFFSETFROM:+0200
TZOFFSETTO:+0100
TZNAME:CET
DTSTART:20241027T010000
END:STANDARD
BEGIN:DAYLIGHT
TZOFFSETFROM:+0100
TZOFFSETTO:+0200
TZNAME:CEST
DTSTART:20250330T010000
END:DAYLIGHT
BEGIN:STANDARD
TZOFFSETFROM:+0200
TZOFFSETTO:+0100
TZNAME:CET
DTSTART:20251026T010000
END:STANDARD
BEGIN:DAYLIGHT
TZOFFSETFROM:+0100
TZOFFSETTO:+0200
TZNAME:CEST
DTSTART:20260329T010000
END:DAYLIGHT
BEGIN:STANDARD
TZOFFSETFROM:+0200
TZOFFSETTO:+0100
TZNAME:CET
DTSTART:20261025T010000
END:STANDARD
END:VTIMEZONE
BEGIN:VEVENT
DTSTART;TZID=Europe/Berlin:20250803T190000
DTEND;TZID=Europe/Berlin:20250803T190000
DTSTAMP:20260421T190124
CREATED:20250729T135834Z
LAST-MODIFIED:20250729T140018Z
UID:561-1754247600-1754247600@www.steilshoop.net
SUMMARY:Konzert „The String Company“ und Abend der Vielfalt am 03.08.2025 in der Martin-Luther-King-Kirche
DESCRIPTION:Die MLK lädt ein: \n„Zum zweiten Mal begrüßen wir „The String Company“ aus Erfurt. Das Ensemble hat uns bereits vor zwei Jahren einen wunderbaren und stimmungsvollen Konzertabend geschenkt. Das möchten wir in diesem Sommer wiederholen und laden herzlich ein – zum Konzert und im Anschluss zum  Buffet der Vielfalt  mit Snacks aus unterschiedlichen Kulturen\, Getränken und guten Gesprächen.“
URL:https://www.steilshoop.net/event/konzert-the-string-company-und-abend-der-vielfalt-am-03-08-2025-in-der-martin-luther-king-kirche/
LOCATION:Martin-Luther-King Kirche\, Gründgensstr. 28\, 22309 Hamburg\, Gründgensstr. 28\, Hamburg\, 22309
ATTACH;FMTTYPE=image/webp:https://www.steilshoop.net/wp-content/uploads/2025/07/The_String_Company_03.08.2025-7a6010e4.webp
END:VEVENT
END:VCALENDAR