BEGIN:VCALENDAR
VERSION:2.0
PRODID:-//Stadtteilkonferenz Steilshoop - ECPv6.15.20//NONSGML v1.0//EN
CALSCALE:GREGORIAN
METHOD:PUBLISH
X-ORIGINAL-URL:https://www.steilshoop.net
X-WR-CALDESC:Veranstaltungen für Stadtteilkonferenz Steilshoop
REFRESH-INTERVAL;VALUE=DURATION:PT1H
X-Robots-Tag:noindex
X-PUBLISHED-TTL:PT1H
BEGIN:VTIMEZONE
TZID:Europe/Berlin
BEGIN:DAYLIGHT
TZOFFSETFROM:+0100
TZOFFSETTO:+0200
TZNAME:CEST
DTSTART:20240331T010000
END:DAYLIGHT
BEGIN:STANDARD
TZOFFSETFROM:+0200
TZOFFSETTO:+0100
TZNAME:CET
DTSTART:20241027T010000
END:STANDARD
BEGIN:DAYLIGHT
TZOFFSETFROM:+0100
TZOFFSETTO:+0200
TZNAME:CEST
DTSTART:20250330T010000
END:DAYLIGHT
BEGIN:STANDARD
TZOFFSETFROM:+0200
TZOFFSETTO:+0100
TZNAME:CET
DTSTART:20251026T010000
END:STANDARD
BEGIN:DAYLIGHT
TZOFFSETFROM:+0100
TZOFFSETTO:+0200
TZNAME:CEST
DTSTART:20260329T010000
END:DAYLIGHT
BEGIN:STANDARD
TZOFFSETFROM:+0200
TZOFFSETTO:+0100
TZNAME:CET
DTSTART:20261025T010000
END:STANDARD
END:VTIMEZONE
BEGIN:VEVENT
DTSTART;TZID=Europe/Berlin:20250805T150000
DTEND;TZID=Europe/Berlin:20250805T173000
DTSTAMP:20260421T185939
CREATED:20250721T172912Z
LAST-MODIFIED:20250721T172912Z
UID:534-1754406000-1754415000@www.steilshoop.net
SUMMARY:A.G.D.A.Z. - Sommerrollen mit Amy - Veranstaltung für Kinder
DESCRIPTION:Sommerrollen mit Amy für Kinder im Alter von 8 bis 14 Jahren im A.G.D.A.Z. am 05.08.2025 von 15:00 bis 17:30 Uhr. \nGropiusring 43A\, 22309 Hamburg \nAnmeldung unter amy1804@gmx.de oder 0177 912 49 69 \nKosten: 1 EUR \nWir wünschen viel Spaß!
URL:https://www.steilshoop.net/event/a-g-d-a-z-sommerrollen-mit-amy-veranstaltung-fuer-kinder/
LOCATION:Stadtteiltreff AGDAZ\, Gropiusring 43a\, Hamburg\, 22309\, Germany
ATTACH;FMTTYPE=image/jpeg:https://www.steilshoop.net/wp-content/uploads/2025/07/Amy-Ly-Sommerrollen-machen.jpg
END:VEVENT
END:VCALENDAR