BEGIN:VCALENDAR
VERSION:2.0
PRODID:-//Stadtteilkonferenz Steilshoop - ECPv6.15.20//NONSGML v1.0//EN
CALSCALE:GREGORIAN
METHOD:PUBLISH
X-WR-CALNAME:Stadtteilkonferenz Steilshoop
X-ORIGINAL-URL:https://www.steilshoop.net
X-WR-CALDESC:Veranstaltungen für Stadtteilkonferenz Steilshoop
REFRESH-INTERVAL;VALUE=DURATION:PT1H
X-Robots-Tag:noindex
X-PUBLISHED-TTL:PT1H
BEGIN:VTIMEZONE
TZID:Europe/Berlin
BEGIN:DAYLIGHT
TZOFFSETFROM:+0100
TZOFFSETTO:+0200
TZNAME:CEST
DTSTART:20240331T010000
END:DAYLIGHT
BEGIN:STANDARD
TZOFFSETFROM:+0200
TZOFFSETTO:+0100
TZNAME:CET
DTSTART:20241027T010000
END:STANDARD
BEGIN:DAYLIGHT
TZOFFSETFROM:+0100
TZOFFSETTO:+0200
TZNAME:CEST
DTSTART:20250330T010000
END:DAYLIGHT
BEGIN:STANDARD
TZOFFSETFROM:+0200
TZOFFSETTO:+0100
TZNAME:CET
DTSTART:20251026T010000
END:STANDARD
BEGIN:DAYLIGHT
TZOFFSETFROM:+0100
TZOFFSETTO:+0200
TZNAME:CEST
DTSTART:20260329T010000
END:DAYLIGHT
BEGIN:STANDARD
TZOFFSETFROM:+0200
TZOFFSETTO:+0100
TZNAME:CET
DTSTART:20261025T010000
END:STANDARD
END:VTIMEZONE
BEGIN:VEVENT
DTSTART;TZID=Europe/Berlin:20250925T150000
DTEND;TZID=Europe/Berlin:20250925T180000
DTSTAMP:20260421T170410
CREATED:20250901T125431Z
LAST-MODIFIED:20250901T125431Z
UID:614-1758812400-1758823200@www.steilshoop.net
SUMMARY:Kräuterspaziergang mit dem Stadtteiltreff A.G.D.A.Z.
DESCRIPTION:Donnerstag\, 25.09. um 15:00 Uhr\nKräuterspaziergang\nTreffpunkt: Stadtteiltreff A.G.D.A.Z. in Steilshoop\, Gropiusring 43a\, 22309 Hamburg \nAm Freitag\, den 25.09.\, lädt der Stadtteiltreff A.G.D.A.Z. um 15 Uhr zu einem Kräuterspaziergang ein. Wie isst man Löwenzahn oder was kann man mit der „Vogelbeere“ machen? Auf diesem Rundgang durch Steilshoop werden viele essbare Pflanzen entdeckt. Die Kräuterexpertin Gina zeigt auch Heilwirkungen auf und erklärt\, was man unbedingt beachten sollte\, wenn man selbst ernten möchte.
URL:https://www.steilshoop.net/event/kraeuterspaziergang-mit-dem-stadtteiltreff-a-g-d-a-z/
LOCATION:Stadtteiltreff AGDAZ\, Gropiusring 43a\, Hamburg\, 22309\, Germany
ORGANIZER;CN="A.G.D.A.Z. e.V.":MAILTO:info@agdaz.de
END:VEVENT
END:VCALENDAR