BEGIN:VCALENDAR
VERSION:2.0
PRODID:-//Stadtteilkonferenz Steilshoop - ECPv6.15.20//NONSGML v1.0//EN
CALSCALE:GREGORIAN
METHOD:PUBLISH
X-ORIGINAL-URL:https://www.steilshoop.net
X-WR-CALDESC:Veranstaltungen für Stadtteilkonferenz Steilshoop
REFRESH-INTERVAL;VALUE=DURATION:PT1H
X-Robots-Tag:noindex
X-PUBLISHED-TTL:PT1H
BEGIN:VTIMEZONE
TZID:Europe/Berlin
BEGIN:DAYLIGHT
TZOFFSETFROM:+0100
TZOFFSETTO:+0200
TZNAME:CEST
DTSTART:20240331T010000
END:DAYLIGHT
BEGIN:STANDARD
TZOFFSETFROM:+0200
TZOFFSETTO:+0100
TZNAME:CET
DTSTART:20241027T010000
END:STANDARD
BEGIN:DAYLIGHT
TZOFFSETFROM:+0100
TZOFFSETTO:+0200
TZNAME:CEST
DTSTART:20250330T010000
END:DAYLIGHT
BEGIN:STANDARD
TZOFFSETFROM:+0200
TZOFFSETTO:+0100
TZNAME:CET
DTSTART:20251026T010000
END:STANDARD
BEGIN:DAYLIGHT
TZOFFSETFROM:+0100
TZOFFSETTO:+0200
TZNAME:CEST
DTSTART:20260329T010000
END:DAYLIGHT
BEGIN:STANDARD
TZOFFSETFROM:+0200
TZOFFSETTO:+0100
TZNAME:CET
DTSTART:20261025T010000
END:STANDARD
END:VTIMEZONE
BEGIN:VEVENT
DTSTART;TZID=Europe/Berlin:20251007T100000
DTEND;TZID=Europe/Berlin:20251007T110000
DTSTAMP:20260421T154153
CREATED:20250904T123556Z
LAST-MODIFIED:20250904T123556Z
UID:627-1759831200-1759834800@www.steilshoop.net
SUMMARY:U5-Sprechstunde in Steilshoop
DESCRIPTION:HOCHBAHN vor Ort: Sie möchten wissen\, wie der Bau in Steilshoop vorankommt? Oder Sie sind Anwohner*in und haben individuelles Anliegen\, das mit dem Bau der U5 zusammenhängt? Stellen Sie all Ihre Fragen im Rahmen der U5-Sprechstunde in Steilshoop. \nDie U5-Beauftragte Tanja Taaks steht jeden ersten Dienstag im Monat als Teil der steg-Sprechstunde im Quartiersbüro im Erdgeschoss des EKZ Steilshoop persönlich für Ihre Themen zur Verfügung. \nWann?\nDienstag\, 7. Oktober\, von 10 bis 11 Uhr \nWo?\nEKZ Steilshoop\nSchreyerring 26\n22309 Hamburg
URL:https://www.steilshoop.net/event/u5-sprechstunde-in-steilshoop/
ATTACH;FMTTYPE=image/jpeg:https://www.steilshoop.net/wp-content/uploads/2025/09/U5-Sprechstunde-Hamburg-Steilshoop.jpg
END:VEVENT
END:VCALENDAR