BEGIN:VCALENDAR
VERSION:2.0
PRODID:-//Stadtteilkonferenz Steilshoop - ECPv6.15.20//NONSGML v1.0//EN
CALSCALE:GREGORIAN
METHOD:PUBLISH
X-WR-CALNAME:Stadtteilkonferenz Steilshoop
X-ORIGINAL-URL:https://www.steilshoop.net
X-WR-CALDESC:Veranstaltungen für Stadtteilkonferenz Steilshoop
REFRESH-INTERVAL;VALUE=DURATION:PT1H
X-Robots-Tag:noindex
X-PUBLISHED-TTL:PT1H
BEGIN:VTIMEZONE
TZID:Europe/Berlin
BEGIN:DAYLIGHT
TZOFFSETFROM:+0100
TZOFFSETTO:+0200
TZNAME:CEST
DTSTART:20240331T010000
END:DAYLIGHT
BEGIN:STANDARD
TZOFFSETFROM:+0200
TZOFFSETTO:+0100
TZNAME:CET
DTSTART:20241027T010000
END:STANDARD
BEGIN:DAYLIGHT
TZOFFSETFROM:+0100
TZOFFSETTO:+0200
TZNAME:CEST
DTSTART:20250330T010000
END:DAYLIGHT
BEGIN:STANDARD
TZOFFSETFROM:+0200
TZOFFSETTO:+0100
TZNAME:CET
DTSTART:20251026T010000
END:STANDARD
BEGIN:DAYLIGHT
TZOFFSETFROM:+0100
TZOFFSETTO:+0200
TZNAME:CEST
DTSTART:20260329T010000
END:DAYLIGHT
BEGIN:STANDARD
TZOFFSETFROM:+0200
TZOFFSETTO:+0100
TZNAME:CET
DTSTART:20261025T010000
END:STANDARD
END:VTIMEZONE
BEGIN:VEVENT
DTSTART;TZID=Europe/Berlin:20251011T183000
DTEND;TZID=Europe/Berlin:20251011T220000
DTSTAMP:20260421T153844
CREATED:20250914T164742Z
LAST-MODIFIED:20250914T164742Z
UID:636-1760207400-1760220000@www.steilshoop.net
SUMMARY:Großer Laternenumzug und Live-Musik in Farmsen-Berne
DESCRIPTION:Der gemeinsame Laternenumzug großer Organisationen Farmsens\, dem Bürgerverein Farmsen-Berne\, dem Einkaufstreffpunkt Farmsen\, dem Farmsener Turnverein\, der Mietergenossenschaft Gartenstadt Farmsen\, dem Sport Club Condor und der Freiwilligen Feuerwehr Farmsen findet dieses Jahr am Sonnabend\, den 11. Oktober 2025 statt. \nDie Show- und Marchingband 2000 sowie der Musikzug Halstenbek spielen ab 18:30 Uhr auf dem Gelände der Farmsener Feuerwehr am Berner Heerweg 151 Melodien aus Musical und Film\, Oldies\, Evergreens sowie bekannte Laternenlieder. \nAbgesichert durch Löschfahrzeuge\, Feuerwehr- und Jugendfeuerwehrleute beginnt der Umzug durch Farmsen an der Feuerwache und verläuft über die hierfür zeitweilig abgesperrte Eggersweide\, dem Pulverhofsweg\, der Eckerkoppel\, dem Buchnerweg und die Karstenskoppel zurück zur Feuerwache\, wo die beiden Spielmannszüge das gemütliche Beisammensein auf dem Feuerwehrgelände weiter musikalisch begleiten werden. Für das leibliche Wohl sorgt die Freiwillige Feuerwehr Farmsen vor und nach dem Umzug mit Grillwurst\, heißen Waffeln sowie Kakao\, Kinderpunsch\, Glühwein und anderen Getränken.  \nBeitragsbild: Feuerwehr Farmsen https://ff-farmsen.de
URL:https://www.steilshoop.net/event/grosser-laternenumzug-und-live-musik-in-farmsen-berne/
ATTACH;FMTTYPE=image/jpeg:https://www.steilshoop.net/wp-content/uploads/2025/09/Laternenumzug-2024a-860x280-1.jpg
END:VEVENT
END:VCALENDAR