BEGIN:VCALENDAR
VERSION:2.0
PRODID:-//Stadtteilkonferenz Steilshoop - ECPv6.15.20//NONSGML v1.0//EN
CALSCALE:GREGORIAN
METHOD:PUBLISH
X-WR-CALNAME:Stadtteilkonferenz Steilshoop
X-ORIGINAL-URL:https://www.steilshoop.net
X-WR-CALDESC:Veranstaltungen für Stadtteilkonferenz Steilshoop
REFRESH-INTERVAL;VALUE=DURATION:PT1H
X-Robots-Tag:noindex
X-PUBLISHED-TTL:PT1H
BEGIN:VTIMEZONE
TZID:Europe/Berlin
BEGIN:DAYLIGHT
TZOFFSETFROM:+0100
TZOFFSETTO:+0200
TZNAME:CEST
DTSTART:20240331T010000
END:DAYLIGHT
BEGIN:STANDARD
TZOFFSETFROM:+0200
TZOFFSETTO:+0100
TZNAME:CET
DTSTART:20241027T010000
END:STANDARD
BEGIN:DAYLIGHT
TZOFFSETFROM:+0100
TZOFFSETTO:+0200
TZNAME:CEST
DTSTART:20250330T010000
END:DAYLIGHT
BEGIN:STANDARD
TZOFFSETFROM:+0200
TZOFFSETTO:+0100
TZNAME:CET
DTSTART:20251026T010000
END:STANDARD
BEGIN:DAYLIGHT
TZOFFSETFROM:+0100
TZOFFSETTO:+0200
TZNAME:CEST
DTSTART:20260329T010000
END:DAYLIGHT
BEGIN:STANDARD
TZOFFSETFROM:+0200
TZOFFSETTO:+0100
TZNAME:CET
DTSTART:20261025T010000
END:STANDARD
END:VTIMEZONE
BEGIN:VEVENT
DTSTART;TZID=Europe/Berlin:20251019T113000
DTEND;TZID=Europe/Berlin:20251019T143000
DTSTAMP:20260421T153844
CREATED:20250914T164032Z
LAST-MODIFIED:20250914T164032Z
UID:633-1760873400-1760884200@www.steilshoop.net
SUMMARY:Wandsbeker Sinfonieorchester: Matineekonzert in Farmsen (Karl-Schneider-Halle) - Eintritt frei
DESCRIPTION:Erstmalig seit langem gibt das Wandsbeker Sinfonieorchester (WSO) einmal wieder ein Hauskonzert\, das heißt in seiner Stammhalle\, der Karl-Schneider-Halle – Berner Heerweg 183 an der U-Farmsen. Und zwar am Sonntag\, 19. Oktober 2025\, 11.30 Uhr\, als Matineekonzert zum Beginn der Herbstferien. Der Eintritt ist frei\, um Spenden wird gebeten. \nDas Repräsentationsorchester der Hamburger Volkshochschule probt in der Halle seit August unter der Leitung von Wolf Tobias Müller bereits das Programm mit Highlights aus der Romantik und des Impressionismus\, darunter Rossini\, der Norweger Johan Svendsen mit der Konzertmeisterin Christel Köpke als Solistin\, Franz Schuberts 6. Sinfonie und Debussys populärer Petite Suite. Restauration in der Pause und nach dem Konzert\, um mit den Musikern ins Gespräch zu kommen. \nDie Karl-Schneider-Halle wurde 1992 zum 100. Geburtstag des Architekten Karl Schneider totalsaniert und steht seither unter Denkmalschutz\, da sie als leuchtendes Beispiel für den „Stil des Neuen Bauens“ steht. Bekannt ist sie geworden mit Veranstaltungen der Hamburger Volkshochschule\, mit Tanz- und Jubiläumsfesten\, Konzerten und zuletzt politischen Podiumsdiskussionen\, initiiert von Gerhard Fuchs und dem ehemaligen VHS-Leiter Wulf Hilbert. Der hat das WSO vor 43 Jahren gegründet und er spielt am 19. Oktober mit.\nZugleich muss das Orchester mitteilen\, dass sein Dirigent Wolf Tobias Müller sich nach 10 Jahren Tätigkeit mit diesem Konzert leider vorläufig aus Farmsen verabschiedet.
URL:https://www.steilshoop.net/event/wandsbeker-sinfonieorchester-matineekonzert-in-farmsen-karl-schneider-halle-eintritt-frei/
ATTACH;FMTTYPE=image/jpeg:https://www.steilshoop.net/wp-content/uploads/2025/09/Wandsbeker-Sinfonie-Orchester.jpg
END:VEVENT
END:VCALENDAR