BEGIN:VCALENDAR
VERSION:2.0
PRODID:-//Stadtteilkonferenz Steilshoop - ECPv6.15.20//NONSGML v1.0//EN
CALSCALE:GREGORIAN
METHOD:PUBLISH
X-ORIGINAL-URL:https://www.steilshoop.net
X-WR-CALDESC:Veranstaltungen für Stadtteilkonferenz Steilshoop
REFRESH-INTERVAL;VALUE=DURATION:PT1H
X-Robots-Tag:noindex
X-PUBLISHED-TTL:PT1H
BEGIN:VTIMEZONE
TZID:Europe/Berlin
BEGIN:DAYLIGHT
TZOFFSETFROM:+0100
TZOFFSETTO:+0200
TZNAME:CEST
DTSTART:20240331T010000
END:DAYLIGHT
BEGIN:STANDARD
TZOFFSETFROM:+0200
TZOFFSETTO:+0100
TZNAME:CET
DTSTART:20241027T010000
END:STANDARD
BEGIN:DAYLIGHT
TZOFFSETFROM:+0100
TZOFFSETTO:+0200
TZNAME:CEST
DTSTART:20250330T010000
END:DAYLIGHT
BEGIN:STANDARD
TZOFFSETFROM:+0200
TZOFFSETTO:+0100
TZNAME:CET
DTSTART:20251026T010000
END:STANDARD
BEGIN:DAYLIGHT
TZOFFSETFROM:+0100
TZOFFSETTO:+0200
TZNAME:CEST
DTSTART:20260329T010000
END:DAYLIGHT
BEGIN:STANDARD
TZOFFSETFROM:+0200
TZOFFSETTO:+0100
TZNAME:CET
DTSTART:20261025T010000
END:STANDARD
END:VTIMEZONE
BEGIN:VEVENT
DTSTART;TZID=Europe/Berlin:20250203T190000
DTEND;TZID=Europe/Berlin:20250203T210000
DTSTAMP:20260422T025159
CREATED:20250117T081708Z
LAST-MODIFIED:20250117T081708Z
UID:385-1738609200-1738616400@www.steilshoop.net
SUMMARY:Mieterinitiative Steilshoop
DESCRIPTION:
URL:https://www.steilshoop.net/event/mieterinitiative-steilshoop/
LOCATION:Stadtteiltreff AGDAZ\, Gropiusring 43a\, Hamburg\, 22309\, Germany
END:VEVENT
BEGIN:VEVENT
DTSTART;TZID=Europe/Berlin:20250220T190000
DTEND;TZID=Europe/Berlin:20250220T190000
DTSTAMP:20260422T025159
CREATED:20250217T140150Z
LAST-MODIFIED:20250217T140150Z
UID:411-1740078000-1740078000@www.steilshoop.net
SUMMARY:Jam Session im A.G.D.A.Z. 20.02.2025 Ab 19 Uhr!
DESCRIPTION:Seit Oktober letzten Jahres findet im Stadtteiltreff A.G.D.A.Z. in Steilshoop eine monatliche Jam Session statt\, die sich an alle Musikbegeisterten richtet. Egal ob Anfänger oder Profi\, hier kommen Musikfans zusammen\, um in entspannter Atmosphäre gemeinsam zu improvisieren und neue musikalische Ideen auszuprobieren. \nDie Jam Session bietet eine semi-akustische Umgebung mit einer kleinen Anlage und einigen bereitgestellten Instrumenten. Teilnehmer und Teilnehmerinnen sind herzlich eingeladen\, ihre eigenen Instrumente mitzubringen und Teil dieser kreativen Gemeinschaft zu werden. Die nächste Session findet am 20. Februar ab 19 Uhr statt. \nFür Fragen oder weitere Informationen steht Connie Nell im A.G.D.A.Z. gerne zur Verfügung. Sie erreichen sie unter info@agdaz.de oder telefonisch unter 040 630 1028.
URL:https://www.steilshoop.net/event/jam-session-im-a-g-d-a-z-20-02-2025-ab-19-uhr/
LOCATION:Stadtteiltreff AGDAZ\, Gropiusring 43a\, Hamburg\, 22309\, Germany
ORGANIZER;CN="A.G.D.A.Z. e.V.":MAILTO:info@agdaz.de
END:VEVENT
BEGIN:VEVENT
DTSTART;TZID=Europe/Berlin:20250221T193000
DTEND;TZID=Europe/Berlin:20250221T193000
DTSTAMP:20260422T025159
CREATED:20250217T140720Z
LAST-MODIFIED:20250217T140720Z
UID:415-1740166200-1740166200@www.steilshoop.net
SUMMARY:Constantin Arlt Konzert im A.G.D.A.Z. am 21.02.2025 um 19:30 Uhr!
DESCRIPTION:Constantin Arlt spielt eine Menge Instrumente\, schreibt eigene Songs und komponiert die Musik dazu. Seine Lieder erzählen über das Leben\, die Liebe und die Freundschaft. Sie laden zum Nachdenken aber auch zum Feiern ein. Am 21. Februar tritt Constantin Arlt um 19:30 Uhr im Stadtteiltreff A.G.D.A.Z. auf\, begleitet von seinem Kollegen Ronald an der Cajón. \nFür Rückfragen und Anmeldungen: info@agdaz.de oder Tel. 040 630 1028.
URL:https://www.steilshoop.net/event/constantin-arlt-konzert-im-a-g-d-a-z-am-21-02-2025-um-1930-uhr/
LOCATION:Stadtteiltreff AGDAZ\, Gropiusring 43a\, Hamburg\, 22309\, Germany
ORGANIZER;CN="A.G.D.A.Z. e.V.":MAILTO:info@agdaz.de
END:VEVENT
BEGIN:VEVENT
DTSTART;TZID=Europe/Berlin:20250225T190000
DTEND;TZID=Europe/Berlin:20250225T210000
DTSTAMP:20260422T025159
CREATED:20250311T201749Z
LAST-MODIFIED:20250311T201749Z
UID:408-1740510000-1740517200@www.steilshoop.net
SUMMARY:Sitzung der Stadtteilkonferenz am 25.03.2025
DESCRIPTION:
URL:https://www.steilshoop.net/event/sitzung-der-stadtteilkonferenz-am-25-03-2025/
LOCATION:Campus Steilshoop\, Gropiusring 43\, Hamburg\, Hamburg\, 22309
END:VEVENT
BEGIN:VEVENT
DTSTART;TZID=Europe/Berlin:20250228T110000
DTEND;TZID=Europe/Berlin:20250228T110000
DTSTAMP:20260422T025159
CREATED:20250131T133628Z
LAST-MODIFIED:20250217T135521Z
UID:399-1740740400-1740740400@www.steilshoop.net
SUMMARY:Hamburg räumt auf! 28.02.2025
DESCRIPTION:Hamburg räumt auf! \nWir freuen uns über rege Teilnahme\, vor allem die Natur!\nDeshalb\, sei dabei!
URL:https://www.steilshoop.net/event/hamburg-raeumt-auf-28-02-2025/
LOCATION:Bistro Campus Steilshoop\, Gropiusring 43\, Hamburg\, Hamburg\, 22309\, Germany
ATTACH;FMTTYPE=image/jpeg:https://www.steilshoop.net/wp-content/uploads/2025/01/HRA-Logo_date.jpg
END:VEVENT
END:VCALENDAR