BEGIN:VCALENDAR
VERSION:2.0
PRODID:-//Stadtteilkonferenz Steilshoop - ECPv6.15.20//NONSGML v1.0//EN
CALSCALE:GREGORIAN
METHOD:PUBLISH
X-WR-CALNAME:Stadtteilkonferenz Steilshoop
X-ORIGINAL-URL:https://www.steilshoop.net
X-WR-CALDESC:Veranstaltungen für Stadtteilkonferenz Steilshoop
REFRESH-INTERVAL;VALUE=DURATION:PT1H
X-Robots-Tag:noindex
X-PUBLISHED-TTL:PT1H
BEGIN:VTIMEZONE
TZID:Europe/Berlin
BEGIN:DAYLIGHT
TZOFFSETFROM:+0100
TZOFFSETTO:+0200
TZNAME:CEST
DTSTART:20240331T010000
END:DAYLIGHT
BEGIN:STANDARD
TZOFFSETFROM:+0200
TZOFFSETTO:+0100
TZNAME:CET
DTSTART:20241027T010000
END:STANDARD
BEGIN:DAYLIGHT
TZOFFSETFROM:+0100
TZOFFSETTO:+0200
TZNAME:CEST
DTSTART:20250330T010000
END:DAYLIGHT
BEGIN:STANDARD
TZOFFSETFROM:+0200
TZOFFSETTO:+0100
TZNAME:CET
DTSTART:20251026T010000
END:STANDARD
BEGIN:DAYLIGHT
TZOFFSETFROM:+0100
TZOFFSETTO:+0200
TZNAME:CEST
DTSTART:20260329T010000
END:DAYLIGHT
BEGIN:STANDARD
TZOFFSETFROM:+0200
TZOFFSETTO:+0100
TZNAME:CET
DTSTART:20261025T010000
END:STANDARD
END:VTIMEZONE
BEGIN:VEVENT
DTSTART;TZID=Europe/Berlin:20250307T193000
DTEND;TZID=Europe/Berlin:20250307T193000
DTSTAMP:20260422T010832
CREATED:20250301T102919Z
LAST-MODIFIED:20250301T102919Z
UID:421-1741375800-1741375800@www.steilshoop.net
SUMMARY:Veranstaltung zum Internationalen Frauentag - auch für Männer! am 07.03.2025
DESCRIPTION:Lesung: Hamburgs starke Frauen\nEintritt gegen Spende \nAnlässlich des Internationalen Frauentags findet im Stadtteiltreff A.G.D.A.Z. am 7. Februar 2025 um 19:30 Uhr eine Lesung mit musikalischer Begleitung statt. Die Veranstaltung steht ganz im Zeichen der inspirierenden Lebensgeschichten von Frauen\, die Hamburg geprägt haben. \nIm Mittelpunkt der Lesung steht die Hamburger Journalistin Tanja Breukelchen\, die aus ihrem Buch „Hamburgs starke Frauen“ lesen wird. In diesem Werk erzählt sie die faszinierenden Lebensgeschichten von bemerkenswerten Hamburger Frauen aus vier Jahrhunderten – von der Kauffrau Glückel von Hameln bis zur Boxerin Susi Kentikian. Die Leserinnen und Leser dürfen sich auf bewegende Texte freuen\, die zum Nachdenken anregen und viel Raum für Gespräche bieten. \nDer Abend wird musikalisch vom Trio „Pinhan“ begleitet\, die traditionelle anatolische Musik und moderne Einflüsse kombinieren. \nDie Veranstaltung findet in Kooperation mit StoP-Stadtteile ohne Partnergewalt statt\, die an dem Abend ebenfalls Einblicke ihre Arbeit in Steilshoop gewähren werden. Dazu wird es warme Snacks und kalte Getränke geben. \nAlle Interessierten sind herzlich eingeladen\, an diesem besonderen Abend teilzunehmen und gemeinsam mehr über beeindruckende Frauen der Hansestadt zu lernen.
URL:https://www.steilshoop.net/event/veranstaltung-zum-internationalen-frauentag-auch-fuer-maenner-am-07-03-2025/
LOCATION:Stadtteiltreff AGDAZ\, Gropiusring 43a\, Hamburg\, 22309\, Germany
ORGANIZER;CN="A.G.D.A.Z. e.V.":MAILTO:info@agdaz.de
END:VEVENT
BEGIN:VEVENT
DTSTART;TZID=Europe/Berlin:20250314T193000
DTEND;TZID=Europe/Berlin:20250314T193000
DTSTAMP:20260422T010832
CREATED:20250301T103206Z
LAST-MODIFIED:20250301T103206Z
UID:423-1741980600-1741980600@www.steilshoop.net
SUMMARY:Dewi Saraswati - ein Kinderdorf in Indien am 14.03.25!
DESCRIPTION:Vortrag und Reisebericht\nEintritt gegen Spende \nDer Verein DEWI SARASWATI HAMBURG e.V. und der Stadtteiltreff A.G.D.A.Z. laden herzlich zu einem unterhaltsamen und informativen Vortragsabend am Freitag\, den 14. März 2025\, um 19:30 Uhr im Stadtteiltreff in Steilshoop ein. Dem Publikum wird auf diesem Ausflug nach Indien das DEWI SARASWATI Kinderdorf in Südindien näher gebracht mit Einblicken in die faszinierende Kultur Südindiens und die Herausforderungen des Lebens in einem Land mit 1\,4 Milliarden Menschen. \nDer Abend wird von engagierten Vereinsmitgliedern gestaltet\, die mit eindrucksvollen Fotos und persönlichen Berichten das Leben der Kinder im Kinderdorf in Tamil Nadu vorstellen. Das DEWI SARASWATI Kinderdorf bietet nicht nur ein Zuhause für 79 Mädchen und Jungen\, sondern auch eine eigene Projektschule\, eine Minimolkerei sowie Reisfelder\, die zur Selbstversorgung beitragen. Insgesamt kümmern sich 87 Angestellte um das Wohl der Kinder und unterstützen sie auf ihrem Weg zu einer besseren Zukunft. \nDer Verein DEWI SARASWATI HAMBURG e.V.\, gegründet im Jahr 1992\, arbeitet in Deutschland ausschließlich ehrenamtlich und setzt sich für die Verbesserung der Lebensbedingungen von Kindern in Indien ein. Mit dem Vortrag wird nicht nur das Projekt vorgestellt\, sondern auch das Bewusstsein für globale Zusammenhänge geschärft. \nDer Eintritt ist frei\, Spenden sind herzlich willkommen. Auch kulinarisch wird die Reise an diesem Abend natürlich nach Indien gehen.
URL:https://www.steilshoop.net/event/dewi-saraswati-ein-kinderdorf-in-indien-am-14-03-25/
LOCATION:Stadtteiltreff AGDAZ\, Gropiusring 43a\, Hamburg\, 22309\, Germany
ORGANIZER;CN="A.G.D.A.Z. e.V.":MAILTO:info@agdaz.de
END:VEVENT
BEGIN:VEVENT
DTSTART;TZID=Europe/Berlin:20250320T190000
DTEND;TZID=Europe/Berlin:20250320T190000
DTSTAMP:20260422T010832
CREATED:20250301T103518Z
LAST-MODIFIED:20250301T103518Z
UID:427-1742497200-1742497200@www.steilshoop.net
SUMMARY:Jam Session am 20.03.25!
DESCRIPTION:Eintritt: frei \nSeit Oktober 2024 lädt der Stadtteiltreff A.G.D.A.Z. in Steilshoop einmal im Monat alle musikbegeisterten Menschen zu einer inspirierenden Jam Session ein. Diese Veranstaltung bietet eine offene Plattform für Hobbymusikerinnen und -musiker sowie Profis\, um gemeinsam Musik zu machen\, sich auszutauschen und kreative Ideen zu entwickeln. \nDie nächste Jam Session findet am Donnerstag\, den 20.03.2025\, ab 19 Uhr statt. Die Jam läuft überwiegend unplugged\, wobei hauptsächlich mit selbstgebrachten akustischen Instrumenten gespielt wird. Für diejenigen\, die kein eigenes Instrument mitbringen können\, stehen einige Instrumente sowie eine kleine Musikanlage zur Verfügung. \n„Jede und jeder soll sich wohl fühlen und einbringen können“\, so die Geschäftsführerin des Stadtteiltreffs Connie Nell. „Wir gehen gerne auf musikalische Wünsche ein und freuen uns besonders\, wenn sich eine multikulturelle Gruppe zusammenfindet\, die die Vielfalt des Stadtteils widerspiegelt.“ \nEgal ob Coverversionen\, eigene Stücke oder spontane Improvisationen – die Jam Session bietet Raum für musikalische Vielfalt und gemeinsames Schaffen. Die Veranstaltung wird durch den Amateurmusikfonds unterstützt und fördert das Miteinander im Stadtteil. \nBei Fragen oder besonderen Wünschen steht Connie Nell gerne zur Verfügung. Sie ist zu erreichen unter info@agdaz.de oder telefonisch unter 040 630 1028.
URL:https://www.steilshoop.net/event/jam-session-am-20-03-25/
LOCATION:Stadtteiltreff AGDAZ\, Gropiusring 43a\, Hamburg\, 22309\, Germany
ORGANIZER;CN="A.G.D.A.Z. e.V.":MAILTO:info@agdaz.de
END:VEVENT
END:VCALENDAR