BEGIN:VCALENDAR
VERSION:2.0
PRODID:-//Stadtteilkonferenz Steilshoop - ECPv6.15.20//NONSGML v1.0//EN
CALSCALE:GREGORIAN
METHOD:PUBLISH
X-WR-CALNAME:Stadtteilkonferenz Steilshoop
X-ORIGINAL-URL:https://www.steilshoop.net
X-WR-CALDESC:Veranstaltungen für Stadtteilkonferenz Steilshoop
REFRESH-INTERVAL;VALUE=DURATION:PT1H
X-Robots-Tag:noindex
X-PUBLISHED-TTL:PT1H
BEGIN:VTIMEZONE
TZID:Europe/Berlin
BEGIN:DAYLIGHT
TZOFFSETFROM:+0100
TZOFFSETTO:+0200
TZNAME:CEST
DTSTART:20240331T010000
END:DAYLIGHT
BEGIN:STANDARD
TZOFFSETFROM:+0200
TZOFFSETTO:+0100
TZNAME:CET
DTSTART:20241027T010000
END:STANDARD
BEGIN:DAYLIGHT
TZOFFSETFROM:+0100
TZOFFSETTO:+0200
TZNAME:CEST
DTSTART:20250330T010000
END:DAYLIGHT
BEGIN:STANDARD
TZOFFSETFROM:+0200
TZOFFSETTO:+0100
TZNAME:CET
DTSTART:20251026T010000
END:STANDARD
BEGIN:DAYLIGHT
TZOFFSETFROM:+0100
TZOFFSETTO:+0200
TZNAME:CEST
DTSTART:20260329T010000
END:DAYLIGHT
BEGIN:STANDARD
TZOFFSETFROM:+0200
TZOFFSETTO:+0100
TZNAME:CET
DTSTART:20261025T010000
END:STANDARD
END:VTIMEZONE
BEGIN:VEVENT
DTSTART;TZID=Europe/Berlin:20250513T190000
DTEND;TZID=Europe/Berlin:20250513T190000
DTSTAMP:20260421T220753
CREATED:20250507T225502Z
LAST-MODIFIED:20250507T225502Z
UID:441-1747162800-1747162800@www.steilshoop.net
SUMMARY:Sanierungsbeirat Steilshoop-Zentrum am 13.05.2025
DESCRIPTION:Der Sanierungsbeirat Steilshoop-Zentrum trifft sich am Dienstag den 13. Mai 2025 um 19 Uhr im Feiersaal der Martin Luther King-Gemeinde.
URL:https://www.steilshoop.net/event/sanierungsbeirat-steilshoop-zentrum-am-13-05-2025/
LOCATION:Feiersaal Martin Luther King-Gemeinde
END:VEVENT
BEGIN:VEVENT
DTSTART;TZID=Europe/Berlin:20250515T100000
DTEND;TZID=Europe/Berlin:20250515T120000
DTSTAMP:20260421T220753
CREATED:20250509T000828Z
LAST-MODIFIED:20250509T000828Z
UID:453-1747303200-1747310400@www.steilshoop.net
SUMMARY:Veranstaltung "Ki im Unternehmen\, aber wie" am 15.05.2025
DESCRIPTION:Veranstaltungs-Newsletter\n08.05.2025\n\n\n\n\n\n\n\n\n\n\n\n\n\n\n\n\n\n\n\n\n\n\n \nGuten Tag Herr Ulrich Matthies\, \nbei unserer Veranstaltung KI im Unternehmen\, aber wie am 15. Mai geben wir Ihnen eine kurze technische Einführung und spannende Einblicke zu Themen wie Akzeptanz und Vorteile von Chatbots\, dem Einsatz generativer KI bei Freitexten\, Fallstricke der DSGVO und wertvolle Learnings. \nWir freuen uns über Ihre Anmeldung. \nIhr Newsletter-Team der Handelskammer Hamburg\n\n\n\n\n\n\n\n\n\n\n\n\n\n\n\n\n\n\n\n\n\n\n\n\n\n\n\n\n\n\n\n\n\n\n\n\n\n\n\n \n\n\n\n\n\n\n\n\n\nDAS MAGAZIN DER HAMBURGER WIRTSCHAFT\n\n\n\n\nHW Online\n\n\n\n\n\n\n\n\n\nJederzeit\, kostenlos und für alle digital abrufbar!\n\n\n\n\n\n\n\n\n\n\n\n\n\n\nhamburger-wirtschaft.de\n\n\n\n\n\n\n\n\n\n\n\n\n\n\n\n\n\n\n\n\n\n\n\nAus- und Weiterbildung\n\n\n\n\n\n\n\n\n\n\n\nVOR ORT AM 12. UND 26. MAI\n\n\n\n\n\nAusbildungsbotschafter Workshop\n\n\n\n\n\nDie Auszubildenden werden in einem speziell konzipierten Workshop befähigt\, ihre Präsentations- und Kommunikationsfähigkeiten zu optimieren. Neben theoretischen Grundlagen steht die Anwendung des Erlernten in Form eigener Präsentationen und anschließendem Feedback im Fokus. \n\n\n\n\n\n\n\n\nBeratung und Sprechtage\n\n\n\n\n\n\n\n\n\n \n\n\n\n\n\n\nDIGITAL NACH ABSPRACHE\n\n\n\n\n\nEnergie- und Umwelt­beratung\n\n\n\n\n\nFür viele Projekte gibt es Unter­stützung\, Zuschüsse oder zins­günstige Kredite. Die Einstiegsberatung unterstützt Sie aktiv bei der Identifikation von verfügbaren Förder­programmen. \n\n\n\n\n\n\n\n \n\n\n\n\n\n\nDIGITAL AM 21. MAI\n\n\n\n\n\nFinanzierungssprechtag\n\n\n\n\n\nSowohl zur Gründung oder Übernahme als auch für die Erweiterung und Festigung Ihres Unternehmens stehen Ihnen zahlreiche öffentliche Finanzierungshilfen zur Verfügung.\n\n\n\n\n\n\n\n\n\n\n\n\n\n\n\n\n\n\n\nDIGITAL AM 27. MAI\n\n\n\n\n\nDroht die Insolvenz? – Individuelle Krisenberatung \n\n\n\n\n\nIm geschützten Videocall bringen wir Sie mit Insolvenzanwälten und Krisenspezialisten zusammen\, besprechen gemeinsam die Situation und suchen Wege aus ihrer Krise.\n\n\n\n\n\n\n\n\nBranchen\n\n\n\n\n\n\n\n\n\n\n\nVOR ORT AM 14. MAI\n\n\n\n\n\nPflege im Wandel – Neue Wege\, neue Chancen\, neues Personal\n\n\n\n\n\nFreuen Sie sich auf spannende Impulsvorträge\, unter anderem zum Thema „Warum wir eine gesamtgesellschaftliche Diskussion zur Weiterentwicklung der Pflegeversicherung benötigen.“\n\n\n\n\n\n\n\n\nGründung und Förderung\n\n\n\n\n\n\n\n\n\n\n\nDIGITAL AM 20. MAI\n\n\n\n\n\nDigitaler Workshop Lebensmittelhygiene\n\n\n\n\n\nWir helfen Ihnen\, die geforderte Schulungsverpflichtung praxisnah in Ihrem Betrieb umzusetzen und bieten Ihnen in diesem Workshop eine unkomplizierte und praxisnahe Möglichkeit dieser gesetzlichen Verpflichtung nachzukommen. \n\n\n\n\n\n\n\n\nInternational\n\n\n\n\n\n\n\n\n\n \n\n\n\n\n\n\nDIGITAL AM 15. MAI\n\n\n\n\n\nUpdate zu US-Zusatzzöllen und aktuelle rechtliche Themen im US-Geschäft\n\n\n\n\n\nSie erhalten praxisnahe Einblicke in die wichtigsten rechtlichen Grundlagen für das US-Geschäft\, aktuelle Entwicklungen in der US-Zollpolitik sowie konkrete Handlungsempfehlungen für einen erfolgreichen Markteintritt.\n\n\n\n\n\n\n\n \n\n\n\n\n\n\nVOR ORT AM 20. MAI\n\n\n\n\n\nDubai Business Forum Germany\n\n\n\n\n\nWir ermöglichen Ihnen Zugang zu deutschen und europäischen Unternehmen aus den Bereichen Technologie\, Finanzen\, Logistik\, Produktion und Nachhaltigkeit sowie zu hochrangigen Entscheidungsträgern aus Dubai\, um sich zu vernetzen und gemeinsam Wachstumschancen zu erkunden.\n\n\n\n\n\n\n\n\n\n\n\n\n\n\n\n\n\n\n\nVOR ORT AM 2. JULI\n\n\n\n\n\nHamburger Außenwirtschaftstag 2025\n\n\n\n\n\nBeim 2. Hamburger Außenwirtschaftstag dreht sich alles um das Thema „Disruption“ mit drei zentralen Schwerpunkten: Wettbewerbsfähigkeit jenseits der regelbasierten Ordnung\, Big Tech aus den USA und China: Disruption oder Destruktion? und Chancen und Grenzen KI-gestützter Technologien im Außenhandel.\n\n\n\n\n\n\n\n\nRecht und Steuern\n\n\n\n\n\n\n\n\n\n \n\n\n\n\n\n\nVOR ORT AM 15. MAI\n\n\n\n\n\n4. Hamburger Datenschutzforum „Der Data Act: Herausforderung für den Datenschutz“\n\n\n\n\n\nIn unserer Veranstaltung zeigen wir\, wie der neue EU Data Act Ihr Unternehmen verändern wird. Die Teilnehmenden erfahren\, welche Schritte zu unternehmen sind und wie man das Zusammenspiel von Datennutzung und Datenschutz meistert. \n\n\n\n\n\n\n\n \n\n\n\n\n\n\nVOR ORT AM 20. MAI\n\n\n\n\n\nDer neue IHK-Schiedsgerichtshof und der Hanseatic Commercial Court Bremen \n\n\n\n\n\nWer wünscht sich das nicht: Wirtschaftsstreitigkeiten einfach komplett online abwickeln. Kein Papierversand mehr und kein Risiko\, dass wichtige E-Mails im Spam-Ordner verloren gehen\, Termine und To-do-Listen auf einen Blick. Die IHK-Organisation bietet dazu eine neue Verfahrensordnung an. \n\n\n\n\n\n\n\n\n\n\n\n\n\n\n\n\n \n\n\n\n\n\n\n\n\n\n\n\n\n\n\nDer HK-Wirtschafts-Newsletter\n\n\n\n\n\n\n\n\n\nWir informieren Sie über alle Themen\, die die Hamburger Wirtschaft bewegen. Stellen Sie sich die Newsletter-Kategorien individuell zusammen und erhalten Sie im Wechsel zu diesem Newsletter immer donnerstags unseren Wirtschafts-Newsletter. \n\n\n\n\n\n\n\n\n\n\n\n\n\n\nJetzt anmelden!
URL:https://www.steilshoop.net/event/veranstaltung-ki-im-unternehmen-aber-wie-am-15-05-2025/
LOCATION:Online
END:VEVENT
BEGIN:VEVENT
DTSTART;TZID=Europe/Berlin:20250521T170000
DTEND;TZID=Europe/Berlin:20250521T200000
DTSTAMP:20260421T220753
CREATED:20250513T095641Z
LAST-MODIFIED:20250513T095641Z
UID:458-1747846800-1747857600@www.steilshoop.net
SUMMARY:Mentor Workshop am 21.05.2025
DESCRIPTION:In einem zweiteiligen Workshop (Modul 1 & Modul 2) werden vorallem neue Mentor*Innen auf ihr Engagement vorbereitet\, es gibt Raum für grundlegende Fragen zur Rolle als Mentor*In und der Mentoringbeziehung. Darüber hinaus wird das Sensibilisieren zum Thema Kinderschutz eines der Inhalte sein. Der erste Teil des Workshops beginnt bereits am 21.05.2025.\n\nDetailierte Informationen zu den Modulen und zur Anmeldung findest du über folgende Links:\n\nhttps://buergerstiftung-hamburg.de/termine/einfuehrungsworkshops-fuer-mentorinnen-modul-1/\nhttps://buergerstiftung-hamburg.de/termine/einfuehrungsworkshops-fuer-mentorinnen-modul-2/\n\nMit freundlichen Grüßen\neuer Mentoring-Team von Hamburger* mit Herz
URL:https://www.steilshoop.net/event/mentor-workshop-am-21-05-2025/
LOCATION:Online
END:VEVENT
BEGIN:VEVENT
DTSTART;TZID=Europe/Berlin:20250522T143000
DTEND;TZID=Europe/Berlin:20250522T160000
DTSTAMP:20260421T220753
CREATED:20250522T084827Z
LAST-MODIFIED:20250522T084827Z
UID:469-1747924200-1747929600@www.steilshoop.net
SUMMARY:Projekt "Kultur satt" am 22.05.2025!
DESCRIPTION:Unser Projekt Kultur satt geht in die nächste Runde! Wir möchten jeden Innenhof in Steilshoop besuchen. Am Donnerstag\, den 22. Mai\, sind wir von 14:30 bis 16:00 Uhr im Ring 14 (Gropiusring 3-15 / Fritz-Flinte-Ring 65-92) vor Ort. Diesmal gibt es leckere Brownies\, spannende Gespräche und eine Aktion der Verbraucherzentrale Hamburg. Diese beschäftigt sich mit wichtigen Themen wie Preiserhöhungen bei Lebensmitteln\, gesunder Ernährung und Einkaufsfallen – genau wie wir! Alle sind willkommen. Kommt vorbei im Innenhof Nr. 14\, setzt Euch dazu und verbringt einen anregenden Nachmittag mit uns!
URL:https://www.steilshoop.net/event/projekt-kultur-satt-am-22-05-2025/
END:VEVENT
BEGIN:VEVENT
DTSTART;TZID=Europe/Berlin:20250522T180000
DTEND;TZID=Europe/Berlin:20250522T180000
DTSTAMP:20260421T220753
CREATED:20250507T225009Z
LAST-MODIFIED:20250507T225009Z
UID:434-1747936800-1747936800@www.steilshoop.net
SUMMARY:Einladung zur Veranstaltung „Finanzwissen und Berufsstart“ am 22.05.2025
DESCRIPTION:
URL:https://www.steilshoop.net/event/einladung-zur-veranstaltung-finanzwissen-und-berufsstart-am-22-05-2025/
LOCATION:Quirin Privatbank Hamburg\, Mittelweg 161\, 20148 Hamburg
END:VEVENT
BEGIN:VEVENT
DTSTART;TZID=Europe/Berlin:20250523T143000
DTEND;TZID=Europe/Berlin:20250523T153000
DTSTAMP:20260421T220753
CREATED:20250522T084505Z
LAST-MODIFIED:20250522T084706Z
UID:465-1748010600-1748014200@www.steilshoop.net
SUMMARY:Steilshoop für Frieden und Völkerverständigung am 23.05.2025!
DESCRIPTION:
URL:https://www.steilshoop.net/event/steilshoop-fuer-frieden-und-voelkerverstaendigung-am-23-05-2025/
END:VEVENT
BEGIN:VEVENT
DTSTART;TZID=Europe/Berlin:20250523T143000
DTEND;TZID=Europe/Berlin:20250523T173000
DTSTAMP:20260421T220753
CREATED:20250522T084943Z
LAST-MODIFIED:20250522T084943Z
UID:471-1748010600-1748021400@www.steilshoop.net
SUMMARY:"Sport-Aktionstag Steilshoop" am 23.05.2025!
DESCRIPTION:Am kommenden Freitagnachmittag\, den 23. Mai\, findet hier von 14:30 – 17:30 Uhr auf dem Campus der Sport-Aktionstag Steilshoop statt. In Kooperation mit Sport und Inklusion\, dem Gesundheitskiosk und dem Bramfelder e.V. können sich die Besucher:innen über Sportangebote im Stadtteil informieren\, einige Angebote ausprobieren oder einfach auf einen Klönschnack vorbeikommen. Kaffee\, Kuchen und Snacks wird es auch geben. Der Tag richtet sich ganz gezielt nicht nur an Sportskanonen\, sondern an alle\, die Lust auf Bewegung haben oder einfach Hallo sagen wollen.
URL:https://www.steilshoop.net/event/sport-aktionstag-steilshoop-am-23-05-2025/
END:VEVENT
BEGIN:VEVENT
DTSTART;TZID=Europe/Berlin:20250523T170000
DTEND;TZID=Europe/Berlin:20250523T173000
DTSTAMP:20260421T220753
CREATED:20250522T085059Z
LAST-MODIFIED:20250522T085059Z
UID:473-1748019600-1748021400@www.steilshoop.net
SUMMARY:"Bewegung für Alle" Jeden Mittwoch!
DESCRIPTION:In diesem Zusammenhang möchten wir auch noch mal auf unser neues inklusives Bewegungsangebot hinweisen: Bewegung für Alle – jeden Mittwoch von 17:00-17:30 Uhr. Hier kann jede:r teilnehmen\, ganz gleich\, welche Erfahrungen oder Voraussetzungen man mitbringt. Es geht hier vor allem um den Spaß an der Bewegung. Nur mit Anmeldung.
URL:https://www.steilshoop.net/event/bewegung-fuer-alle-jeden-mittwoch/
END:VEVENT
BEGIN:VEVENT
DTSTART;TZID=Europe/Berlin:20250527T190000
DTEND;TZID=Europe/Berlin:20250527T190000
DTSTAMP:20260421T220753
CREATED:20250522T085402Z
LAST-MODIFIED:20250522T085402Z
UID:475-1748372400-1748372400@www.steilshoop.net
SUMMARY:Stadtteilkonferenz am 27.05.2025!
DESCRIPTION:Liebe Steilshoop-Interessierte\, \nhiermit laden wir Euch ein zur nächsten Sitzung der Stadtteilkonferenz\nSteilshoop am 27. Mai 2025 um 19.00 im Stadtteilraum auf dem Campus\,\nGropiusring 43. \nZudem\, wie beim letzten Mal besprochen\, nochmal einen\nÄnderungsvorschlag für unsere Satzung. \nMit freundlichen Grüßen \nHarm Dallmeyer (Koordinierungsgruppe)
URL:https://www.steilshoop.net/event/stadtteilkonferenz-am-27-05-2025/
END:VEVENT
END:VCALENDAR