BEGIN:VCALENDAR
VERSION:2.0
PRODID:-//Stadtteilkonferenz Steilshoop - ECPv6.15.20//NONSGML v1.0//EN
CALSCALE:GREGORIAN
METHOD:PUBLISH
X-WR-CALNAME:Stadtteilkonferenz Steilshoop
X-ORIGINAL-URL:https://www.steilshoop.net
X-WR-CALDESC:Veranstaltungen für Stadtteilkonferenz Steilshoop
REFRESH-INTERVAL;VALUE=DURATION:PT1H
X-Robots-Tag:noindex
X-PUBLISHED-TTL:PT1H
BEGIN:VTIMEZONE
TZID:Europe/Berlin
BEGIN:DAYLIGHT
TZOFFSETFROM:+0100
TZOFFSETTO:+0200
TZNAME:CEST
DTSTART:20240331T010000
END:DAYLIGHT
BEGIN:STANDARD
TZOFFSETFROM:+0200
TZOFFSETTO:+0100
TZNAME:CET
DTSTART:20241027T010000
END:STANDARD
BEGIN:DAYLIGHT
TZOFFSETFROM:+0100
TZOFFSETTO:+0200
TZNAME:CEST
DTSTART:20250330T010000
END:DAYLIGHT
BEGIN:STANDARD
TZOFFSETFROM:+0200
TZOFFSETTO:+0100
TZNAME:CET
DTSTART:20251026T010000
END:STANDARD
BEGIN:DAYLIGHT
TZOFFSETFROM:+0100
TZOFFSETTO:+0200
TZNAME:CEST
DTSTART:20260329T010000
END:DAYLIGHT
BEGIN:STANDARD
TZOFFSETFROM:+0200
TZOFFSETTO:+0100
TZNAME:CET
DTSTART:20261025T010000
END:STANDARD
END:VTIMEZONE
BEGIN:VEVENT
DTSTART;TZID=Europe/Berlin:20250905T150000
DTEND;TZID=Europe/Berlin:20250905T170000
DTSTAMP:20260421T154137
CREATED:20250730T063334Z
LAST-MODIFIED:20250730T063334Z
UID:584-1757084400-1757091600@www.steilshoop.net
SUMMARY:Hummustopia trifft A.G.D.A.Z. auf dem Marktplatz - lecker streiten
DESCRIPTION:Hummustopia ist ein Debattenkultur- und Begegnungsprojekt\, das davon ausgeht\, dass Menschen trotz unterschiedlicher Meinungen und Einstellungen einander näher stehen als sich fremd sind. Mit spannenden Gesprächsthemen\, Hummus\, professioneller Konfliktberatung und Live Musik versucht Hummustopia\, die Gräben/ Kluften in unserer Gesellschaft zu überbrücken. \nHummustopia findet im öffentlicher Raum statt und schafft einen geschützten Ort für gesellschaftliche Debatten zu kontroversen Themen. Passant*innen werden eingeladen mitzumachen und mit einer unbekannten Person über ein kontroverses Thema zu sprechen\, das per Los gezogen wird. Das Ziel ist\, einen Aspekt zu finden\, auf den sich beide einigen können. Es geht darum\, einander zuzuhören\, die Perspektive der Anderen wahrzunehmen und unter den Dingen\, die strittig sind\, herauszufinden\, was geteilt wird.\nBsp.: Wie erklären Sie sich die Tatsache\, dass Frauen im Jahr 2024 in den Führungsetagen immer noch unterrepräsentiert sind? Oder weniger verdienen?\nWährend des Redens wird zusammen Hummus gegessen. Die gemeinsame Speise verbindet Menschen und Kulturen. Wenn ein Thema beendet wird\, können die Plätze gewechselt werden und ein neues Gespräch beginnt. Eine Veranstaltung dauert ca. 3 Stunden\, Kommen und Gehen ist immer möglich.\nHummustopia wird von einer diversitätssensiblen Moderation und mit professioneller Konfliktberatung begleitet. Sie greifen\, wenn nötig\, in die Gespräche ein. Es werden Kommunikationswerkzeuge vermittelt\, die auch im Alltag helfen können. Zum Ende einer Veranstaltung werden die wichtigsten Themen und Erkenntnisse zusammengetragen. Ein während des Geschehens entwickeltes Musikstück bietet eine weitere Perspektive und bildet den Abschluss. \nhttps://www.agdaz.de/hummustopia-trifft-gdz-auf-dem-marktplatz/
URL:https://www.steilshoop.net/event/hummustopia-trifft-a-g-d-a-z-auf-dem-marktplatz-lecker-streiten/
LOCATION:Markt- und Eventplatz Steilshoop\, Schreyerring 27\, Hamburg\, 22309
ATTACH;FMTTYPE=image/jpeg:https://www.steilshoop.net/wp-content/uploads/2025/07/Hummustopia.jpg
ORGANIZER;CN="A.G.D.A.Z. e.V.":MAILTO:info@agdaz.de
END:VEVENT
BEGIN:VEVENT
DTSTART;TZID=Europe/Berlin:20250905T193000
DTEND;TZID=Europe/Berlin:20250905T193000
DTSTAMP:20260421T154137
CREATED:20250901T113119Z
LAST-MODIFIED:20250901T115405Z
UID:604-1757100600-1757100600@www.steilshoop.net
SUMMARY:A.G.D.A.Z. - 19:30 Uhr: Sing Along mit Tingel
DESCRIPTION:Das nächste Mitsingkonzert mit Arne Tingel Theophil. Wie immer gibt es Texte und Begleitmusik\, und beim gemeinsamen Auswählen und Singen der Lieder entsteht eine ganz besondere Atmosphäre. Der Eintritt kostet 5 €. \nhttps://www.agdaz.de/sing-along-mit-arne-tingel-theophil2/
URL:https://www.steilshoop.net/event/a-g-d-a-z-1930-uhr-sing-along-mit-tingel/
LOCATION:Stadtteiltreff AGDAZ\, Gropiusring 43a\, Hamburg\, 22309\, Germany
ATTACH;FMTTYPE=image/jpeg:https://www.steilshoop.net/wp-content/uploads/2025/09/TINGEL_1_Foto_Therese_Walther_www.sucherin.de_.jpg
ORGANIZER;CN="A.G.D.A.Z. e.V.":MAILTO:info@agdaz.de
END:VEVENT
BEGIN:VEVENT
DTSTART;TZID=Europe/Berlin:20250908T170000
DTEND;TZID=Europe/Berlin:20250908T210000
DTSTAMP:20260421T154137
CREATED:20250901T115909Z
LAST-MODIFIED:20250901T115909Z
UID:610-1757350800-1757365200@www.steilshoop.net
SUMMARY:Mieterinitiative im A.G.D.A.Z. - Mieterberatung und Treffen der Mieterini
DESCRIPTION:19 Uhr im AGDAZ (Gropiusring 43a) Campus Steilshoop\n\nMieterberatung ab 17 Uhr:\n\nTermin bitte beim Mieterverein zu Hamburg unter Tel. 040 87979 0 vereinbaren oder unter 01757177185 Mieterini Steilshoop\n\n\n\n\n\nVorschlag für die Tagesordnung: \n1. Begrüßung \n2. Redeleitung/ggf. Protokoll \n3. ggf. Vorstellungsrunde \n4. Aktuelle 20 Minuten u.a. \n\n5. MieterInnen Bündnis: Mieterversammlung vom 14.11. bis 16.11.25 in Stuttgart \n    Themen und Vorschläge für das Treffen\n\n6. Infostand auf dem intern. Stadtteilfest am 20. Sept. 2025\n   Wer macht mit ? Flyer verteilen und am Infostand Fragen beantworten.\n\n7. Verschiedenes\n    Termine\n\nNächstes  Treffen am Montag\, den 6. Okt. 2025 im AGDAZ\n\n\n\n\n\n\n\n\n\nMit freundlichen Grüßen\nDie Mieterinitiative Steilshoop\ni.V. Günter Wolff\, Mobil Nr. 0175 71 77 185 und Klaudia Krummreich MobilNr. 015155972662
URL:https://www.steilshoop.net/event/mieterinitiative-im-a-g-d-a-z-mieterberatung-und-treffen-der-mieterini/
LOCATION:Stadtteiltreff AGDAZ\, Gropiusring 43a\, Hamburg\, 22309\, Germany
END:VEVENT
BEGIN:VEVENT
DTSTART;TZID=Europe/Berlin:20250913T140000
DTEND;TZID=Europe/Berlin:20250913T180000
DTSTAMP:20260421T154137
CREATED:20250730T054430Z
LAST-MODIFIED:20250730T054430Z
UID:575-1757772000-1757786400@www.steilshoop.net
SUMMARY:Fotoausstellung: Einblicke Steilshoop im EKZ mit Musik
DESCRIPTION:EINBLICKE STEILSHOOP: Fotoausstellung am 13. und 14. September 2025 von 14:00 – 18:00 Uhr \n13.09. mit Musik von „The living music box“ \nAußerdem: \n19.09. um 18:00 Uhr: Vernissage im Kulturtreff JETZT (Gründgensstraße 22\, 22309 Hamburg) mit anschließendem Doppelkonzert von Annie We und Kai Kaos. \n 
URL:https://www.steilshoop.net/event/fotoausstellung-einblicke-steilshoop-im-ekz-mit-musik/
LOCATION:Einkaufszentrum Steilshoop\, Schreyerring 26\, Hamburg\, 22309
ATTACH;FMTTYPE=image/jpeg:https://www.steilshoop.net/wp-content/uploads/2025/07/Fotoausstellung-Steilshoop.jpg
END:VEVENT
BEGIN:VEVENT
DTSTART;TZID=Europe/Berlin:20250914T140000
DTEND;TZID=Europe/Berlin:20250914T180000
DTSTAMP:20260421T154137
CREATED:20250730T054728Z
LAST-MODIFIED:20250730T054728Z
UID:579-1757858400-1757872800@www.steilshoop.net
SUMMARY:EINBLICKE STEILSHOOP: Fotoausstellung im EKZ
DESCRIPTION:EINBLICKE STEILSHOOP: Fotoausstellung am 13. und 14. September 2025 von 14:00 – 18:00 Uhr \n13.09. mit Musik von „The living music box“ \nAußerdem: \n19.09. um 18:00 Uhr: Vernissage im Kulturtreff JETZT (Gründgensstraße 22\, 22309 Hamburg) mit anschließendem Doppelkonzert von Annie We und Kai Kaos.
URL:https://www.steilshoop.net/event/einblicke-steilshoop-fotoausstellung-im-ekz/
LOCATION:Einkaufszentrum Steilshoop\, Schreyerring 26\, Hamburg\, 22309
ATTACH;FMTTYPE=image/jpeg:https://www.steilshoop.net/wp-content/uploads/2025/07/Fotoausstellung-Steilshoop.jpg
END:VEVENT
BEGIN:VEVENT
DTSTART;TZID=Europe/Berlin:20250918T190000
DTEND;TZID=Europe/Berlin:20250918T220000
DTSTAMP:20260421T154137
CREATED:20250901T125220Z
LAST-MODIFIED:20250901T125220Z
UID:612-1758222000-1758232800@www.steilshoop.net
SUMMARY:Jam Session im A.G.D.A.Z.
DESCRIPTION:Donnerstag\, 18.09. ab 19:00 Uhr\nJam Session\nEintritt: frei\nOrt: Stadtteiltreff A.G.D.A.Z. in Steilshoop\, Gropiusring 43a\, 22309 Hamburg \nSeit Oktober 2024 lädt der Stadtteiltreff A.G.D.A.Z. im Gropiusring 43a in Steilshoop einmal monatlich Musikbegeisterte zu einer Jam Session ein. Die Veranstaltung bietet eine offene Plattform für Hobbymusikerinnen und -musiker sowie Profis\, um gemeinsam Musik zu machen\, sich auszutauschen und kreative Ideen zu entwickeln. \nDie nächste nachbarschaftliche Jam Session findet am Donnerstag\, den 18.09.2025\, ab 19 Uhr statt. Die Jam läuft überwiegend unplugged\, wobei hauptsächlich mit selbst mitgebrachten akustischen Instrumenten gespielt wird. Außerdem stehen einige Instrumente sowie eine kleine Anlage zur Verfügung. Oft entsteht auch eine Lagerfeuerstimmung und es wird gemeinsam gesungen. Was am jeweiligen Abend geschieht\, liegt ganz an den Teilnehmenden. Im September wird die Jam begleitet von der Musikerin Annie We. \nDie Veranstaltung wird durch den Amateurmusikfonds unterstützt und fördert das Miteinander im Stadtteil. Fragen oder besondere Wünsche können gerne eingereicht werden unter info@agdaz.de oder telefonisch unter 040 630 1028.
URL:https://www.steilshoop.net/event/jam-session-im-agdaz-18-09-2025/
LOCATION:Stadtteiltreff AGDAZ\, Gropiusring 43a\, Hamburg\, 22309\, Germany
ORGANIZER;CN="A.G.D.A.Z. e.V.":MAILTO:info@agdaz.de
END:VEVENT
BEGIN:VEVENT
DTSTART;TZID=Europe/Berlin:20250919T140000
DTEND;TZID=Europe/Berlin:20250919T180000
DTSTAMP:20260421T154137
CREATED:20250730T055048Z
LAST-MODIFIED:20250730T055048Z
UID:581-1758290400-1758304800@www.steilshoop.net
SUMMARY:Vernissage im Kulturtreff JETZT mit Doppelkonzert von Annie We und Kai Kaos
DESCRIPTION:19.09. um 18:00 Uhr: \nVernissage im Kulturtreff JETZT (Gründgensstraße 22\, 22309 Hamburg) mit anschließendem Doppelkonzert von Annie We und Kai Kaos.
URL:https://www.steilshoop.net/event/vernissage-im-kulturtreff-jetzt-mit-doppelkonzert-von-annie-we-und-kai-kaos/
LOCATION:Kulturtreff JETZT\, Gründgensstraße 22\, Hamburg\, 22309
ATTACH;FMTTYPE=image/jpeg:https://www.steilshoop.net/wp-content/uploads/2025/07/Fotoausstellung-Steilshoop.jpg
END:VEVENT
BEGIN:VEVENT
DTSTART;TZID=Europe/Berlin:20250920T130000
DTEND;TZID=Europe/Berlin:20250920T190000
DTSTAMP:20260421T154137
CREATED:20250710T185342Z
LAST-MODIFIED:20250710T185342Z
UID:512-1758373200-1758394800@www.steilshoop.net
SUMMARY:Internationales Stadtteilfest Steilshoop
DESCRIPTION:Das Internationale Stadtteilfest Steilshoop ist ein traditionelles Highlight des Jahres. Mit Live-Musik\, Kinderattraktionen\, Essensständen\, Informationsständen…es wird gut. \nOrt: Campus Steilshoop \nUhrzeit: etwa 13 – 19 Uhr \nWeitere Infos folgen\, wenn alles feststeht.
URL:https://www.steilshoop.net/event/internationales-stadtteilfest-steilshoop/
END:VEVENT
BEGIN:VEVENT
DTSTART;TZID=Europe/Berlin:20250925T150000
DTEND;TZID=Europe/Berlin:20250925T180000
DTSTAMP:20260421T154137
CREATED:20250901T125431Z
LAST-MODIFIED:20250901T125431Z
UID:614-1758812400-1758823200@www.steilshoop.net
SUMMARY:Kräuterspaziergang mit dem Stadtteiltreff A.G.D.A.Z.
DESCRIPTION:Donnerstag\, 25.09. um 15:00 Uhr\nKräuterspaziergang\nTreffpunkt: Stadtteiltreff A.G.D.A.Z. in Steilshoop\, Gropiusring 43a\, 22309 Hamburg \nAm Freitag\, den 25.09.\, lädt der Stadtteiltreff A.G.D.A.Z. um 15 Uhr zu einem Kräuterspaziergang ein. Wie isst man Löwenzahn oder was kann man mit der „Vogelbeere“ machen? Auf diesem Rundgang durch Steilshoop werden viele essbare Pflanzen entdeckt. Die Kräuterexpertin Gina zeigt auch Heilwirkungen auf und erklärt\, was man unbedingt beachten sollte\, wenn man selbst ernten möchte.
URL:https://www.steilshoop.net/event/kraeuterspaziergang-mit-dem-stadtteiltreff-a-g-d-a-z/
LOCATION:Stadtteiltreff AGDAZ\, Gropiusring 43a\, Hamburg\, 22309\, Germany
ORGANIZER;CN="A.G.D.A.Z. e.V.":MAILTO:info@agdaz.de
END:VEVENT
BEGIN:VEVENT
DTSTART;TZID=Europe/Berlin:20250926T193000
DTEND;TZID=Europe/Berlin:20250926T230000
DTSTAMP:20260421T154137
CREATED:20250901T125742Z
LAST-MODIFIED:20250901T125742Z
UID:616-1758915000-1758927600@www.steilshoop.net
SUMMARY:Konzert: Yu 'n' Zu im A.G.D.A.Z.
DESCRIPTION:Freitag\, 26.09. um 19:30 Uhr\nKonzert: Yu ’n‘ Zu\nEintritt: 6 €\nOrt: Stadtteiltreff A.G.D.A.Z. in Steilshoop\, Gropiusring 43a\, 22309 Hamburg \nAm Freitag\, den 26. September\, um 19:30 Uhr dürfen sich die Besucherinnen und Besucher im Stadtteiltreff A.G.D.A.Z. in Steilshoop auf ein ganz besonderes musikalisches Erlebnis freuen.  YU ’n‘ ZU begeistern ihr Publikum seit über 20 Jahren auf diversen Bühnen in und um Hamburg. \nBeide Musikerinnen haben einige Jahre ihrer Kindheit im Ausland verbracht – Türkei und Japan. In ihrer Musik drückt sich die Sehnsucht nach einer fernen Kultur aus – fremd und doch vertraut. Heimat ist Thema des neuen\, mehrsprachigen Programms\, auch Hoffnung\, Einsamkeit\, Humor. \nDas Publikum erwartet intelligente\, kreative\, experimentelle Musik\, die Emotionen weckt\, mit Beat\, genauer Rhythmik; eine Musik\, die mühelos Verbindungen schafft zwischen Pop\, Jazz\, orientalischen Rhythmen und Melodien. \nVon schwedisch bis türkisch – wer Überraschungen mag\, wird es genießen. Mit Linde Yu Bauß (Gesang\, Gitarre) und Suzan Zu Turan (Piano\, Backings). Der Eintritt kostet 6 €.  \nFoto: Heike Schluckebier \nhttps://www.agdaz.de/konzert-yu-n-zu/
URL:https://www.steilshoop.net/event/konzert-yu-n-zu-im-a-g-d-a-z/
LOCATION:Stadtteiltreff AGDAZ\, Gropiusring 43a\, Hamburg\, 22309\, Germany
ATTACH;FMTTYPE=image/jpeg:https://www.steilshoop.net/wp-content/uploads/2025/09/Yu_n_Zu-Foto-Heike-Schluckebier.jpg
ORGANIZER;CN="A.G.D.A.Z. e.V.":MAILTO:info@agdaz.de
END:VEVENT
BEGIN:VEVENT
DTSTART;TZID=Europe/Berlin:20250930T190000
DTEND;TZID=Europe/Berlin:20250930T210000
DTSTAMP:20260421T154137
CREATED:20250710T184339Z
LAST-MODIFIED:20250710T184339Z
UID:504-1759258800-1759266000@www.steilshoop.net
SUMMARY:Stadtteilkonferenz Steilshoop
DESCRIPTION:Stadtteilkonferenz Steilshoop von 19 bis ca. 21 Uhr im Stadtteilraum am Campus Steilshoop (Schule am See; gegenüber des Hauses der Jugend) – wir freuen uns auf Sie! \n 
URL:https://www.steilshoop.net/event/stadtteilkonferenz-steilshoop-2/
LOCATION:Campus Steilshoop\, Gropiusring 43\, Hamburg\, Hamburg\, 22309
END:VEVENT
END:VCALENDAR