BEGIN:VCALENDAR
VERSION:2.0
PRODID:-//Stadtteilkonferenz Steilshoop - ECPv6.15.20//NONSGML v1.0//EN
CALSCALE:GREGORIAN
METHOD:PUBLISH
X-WR-CALNAME:Stadtteilkonferenz Steilshoop
X-ORIGINAL-URL:https://www.steilshoop.net
X-WR-CALDESC:Veranstaltungen für Stadtteilkonferenz Steilshoop
REFRESH-INTERVAL;VALUE=DURATION:PT1H
X-Robots-Tag:noindex
X-PUBLISHED-TTL:PT1H
BEGIN:VTIMEZONE
TZID:Europe/Berlin
BEGIN:DAYLIGHT
TZOFFSETFROM:+0100
TZOFFSETTO:+0200
TZNAME:CEST
DTSTART:20250330T010000
END:DAYLIGHT
BEGIN:STANDARD
TZOFFSETFROM:+0200
TZOFFSETTO:+0100
TZNAME:CET
DTSTART:20251026T010000
END:STANDARD
BEGIN:DAYLIGHT
TZOFFSETFROM:+0100
TZOFFSETTO:+0200
TZNAME:CEST
DTSTART:20260329T010000
END:DAYLIGHT
BEGIN:STANDARD
TZOFFSETFROM:+0200
TZOFFSETTO:+0100
TZNAME:CET
DTSTART:20261025T010000
END:STANDARD
BEGIN:DAYLIGHT
TZOFFSETFROM:+0100
TZOFFSETTO:+0200
TZNAME:CEST
DTSTART:20270328T010000
END:DAYLIGHT
BEGIN:STANDARD
TZOFFSETFROM:+0200
TZOFFSETTO:+0100
TZNAME:CET
DTSTART:20271031T010000
END:STANDARD
END:VTIMEZONE
BEGIN:VEVENT
DTSTART;TZID=Europe/Berlin:20260531T080000
DTEND;TZID=Europe/Berlin:20260531T180000
DTSTAMP:20260421T135824
CREATED:20260409T133615Z
LAST-MODIFIED:20260409T133615Z
UID:693-1780214400-1780250400@www.steilshoop.net
SUMMARY:Olympia-Referendum Abstimmungstag
DESCRIPTION:Heute findet die Abstimmung über die Bewerbung Hamburgs für die Olympischen Spiele statt. \nDie Abstimmungsstellen sind von 8:00 bis 18:00 Uhr geöffnet. Danach beginnt die öffentliche Auszählung. Das vorläufige Ergebnis wird am Abend bekanntgegeben. \nAb dem 20.04. werden die Wahlunterlagen an die Haushalte versendet\, auf diesen steht auch Ihr Wahllokal.
URL:https://www.steilshoop.net/event/olympia-referendum-abstimmungstag/
END:VEVENT
END:VCALENDAR